BEGIN:VCALENDAR
VERSION:2.0
PRODID:-//Brillicon - ECPv6.15.20//NONSGML v1.0//EN
CALSCALE:GREGORIAN
METHOD:PUBLISH
X-WR-CALNAME:Brillicon
X-ORIGINAL-URL:https://brillicon.de
X-WR-CALDESC:Veranstaltungen für Brillicon
REFRESH-INTERVAL;VALUE=DURATION:PT1H
X-Robots-Tag:noindex
X-PUBLISHED-TTL:PT1H
BEGIN:VTIMEZONE
TZID:Europe/Berlin
BEGIN:DAYLIGHT
TZOFFSETFROM:+0100
TZOFFSETTO:+0200
TZNAME:CEST
DTSTART:20250330T010000
END:DAYLIGHT
BEGIN:STANDARD
TZOFFSETFROM:+0200
TZOFFSETTO:+0100
TZNAME:CET
DTSTART:20251026T010000
END:STANDARD
BEGIN:DAYLIGHT
TZOFFSETFROM:+0100
TZOFFSETTO:+0200
TZNAME:CEST
DTSTART:20260329T010000
END:DAYLIGHT
BEGIN:STANDARD
TZOFFSETFROM:+0200
TZOFFSETTO:+0100
TZNAME:CET
DTSTART:20261025T010000
END:STANDARD
BEGIN:DAYLIGHT
TZOFFSETFROM:+0100
TZOFFSETTO:+0200
TZNAME:CEST
DTSTART:20270328T010000
END:DAYLIGHT
BEGIN:STANDARD
TZOFFSETFROM:+0200
TZOFFSETTO:+0100
TZNAME:CET
DTSTART:20271031T010000
END:STANDARD
END:VTIMEZONE
BEGIN:VEVENT
DTSTART;TZID=Europe/Berlin:20260321T100000
DTEND;TZID=Europe/Berlin:20260322T170000
DTSTAMP:20260424T234106
CREATED:20260314T211157Z
LAST-MODIFIED:20260324T214704Z
UID:171-1774087200-1774198800@brillicon.de
SUMMARY:Helmut Neudert: Entwicklung und Förderung der Medialität (Basisseminar\, von Hr. Klügl empfohlen)
DESCRIPTION:In diesem Seminar können Sie Ihren Zugang zu medialen Wissen erschließen\, erweitern und durch effiziente Übungen kultivieren. \nVon und mit Helmut Neudert\, Medium und Heiler (ausgebildet u. a. durch Paul Meek). \n  \n\nTraining und Förderung der Medialität durch effiziente Übungen\nFeinfühligkeit durch innere Wahrnehmung entwickeln\ndie Aura eines Menschen fühlen und spüren mit allen Sinnen\nwelche seelischen Tugenden und Eigenschaften sind durch die Aura-Energie eines Menschen wahrzunehmen\nSymbole erkennen und interpretieren\nPsychometrie: Erlangen von Informationen mittels eines persönlichen Gegenstandes eines Menschen\nMediale Arbeit mit einem anwesenden unbekannten Sitter (Klienten)\nund vieles mehr\n\n  \nOrt: Helmut Neudert\, Harlachmühle 2\, 95679 Waldershof \nSeminargebühr: € 320\,– \nAnmeldung bitte per Mail an: helmut.neudert@t-online.de \nmaximal 10 Teilnehmer \n  \nÜbernachtungsmöglichkeit gleich in der Nähe: \nLandgasthof Steinwald\, Harlachberg 4\, 95704 Pullenreuth \nHomepage: www.landgasthof-steinwald.de \nZimmerbuchung bitte direkt mit Landgasthof Steinwald Tel.Nr. 09234/380
URL:https://brillicon.de/event/test/
CATEGORIES:BRILLICON
ORGANIZER;CN="Helmut Neudert":MAILTO:helmut.neudert@t-online.de
END:VEVENT
END:VCALENDAR