BEGIN:VCALENDAR
VERSION:2.0
PRODID:-//Brillicon - ECPv6.15.20//NONSGML v1.0//EN
CALSCALE:GREGORIAN
METHOD:PUBLISH
X-WR-CALNAME:Brillicon
X-ORIGINAL-URL:https://brillicon.de
X-WR-CALDESC:Veranstaltungen für Brillicon
REFRESH-INTERVAL;VALUE=DURATION:PT1H
X-Robots-Tag:noindex
X-PUBLISHED-TTL:PT1H
BEGIN:VTIMEZONE
TZID:Europe/Berlin
BEGIN:DAYLIGHT
TZOFFSETFROM:+0100
TZOFFSETTO:+0200
TZNAME:CEST
DTSTART:20250330T010000
END:DAYLIGHT
BEGIN:STANDARD
TZOFFSETFROM:+0200
TZOFFSETTO:+0100
TZNAME:CET
DTSTART:20251026T010000
END:STANDARD
BEGIN:DAYLIGHT
TZOFFSETFROM:+0100
TZOFFSETTO:+0200
TZNAME:CEST
DTSTART:20260329T010000
END:DAYLIGHT
BEGIN:STANDARD
TZOFFSETFROM:+0200
TZOFFSETTO:+0100
TZNAME:CET
DTSTART:20261025T010000
END:STANDARD
BEGIN:DAYLIGHT
TZOFFSETFROM:+0100
TZOFFSETTO:+0200
TZNAME:CEST
DTSTART:20270328T010000
END:DAYLIGHT
BEGIN:STANDARD
TZOFFSETFROM:+0200
TZOFFSETTO:+0100
TZNAME:CET
DTSTART:20271031T010000
END:STANDARD
END:VTIMEZONE
BEGIN:VEVENT
DTSTART;TZID=Europe/Berlin:20260417T110000
DTEND;TZID=Europe/Berlin:20260419T160000
DTSTAMP:20260424T224151
CREATED:20260316T132207Z
LAST-MODIFIED:20260324T215910Z
UID:182-1776423600-1776614400@brillicon.de
SUMMARY:Gerhard Klügl: Aurachirurgie-Aufbauseminar
DESCRIPTION:Aurachirurgie III:  Aurachirurgie am Bewegungsapparat\, Anatomie \n  \nVoraussetzungen: Aurachirurgie Basisseminar (Aurachirurgie I und II kompakt)\, zu diesem Seminar sind nur Ärzte\, Heilpraktiker und Physiotherapeuten mit Berufserfahrung und anatomischen Kenntnissen zugelassen. Psychische Stabilität ist Voraussetzung zum feinstofflichen Heilen. \n  \nSeminarinhalte: \nFreitag\, 11:00 – 21:00h \n\nAnatomische Voraussetzungen für die Aurachirurgie\nSkelettstrukturen\nMuskeln\, Bänder\, Sehnen\nBindegewebsstrukturen\, v.a. Knorpel und Bandscheiben\nInnervationen und Blutversorgungen\nTypische klinische Symptomatiken\nDiagnosekriterien\n\nSamstag\, 09:00 –21:30h \n\nZusammenfassung Basisseminar\nLösen karmischer Muster und Blockaden aus der Aura (weiterführend)\nAurachirurgie an Wirbelsäule\, Muskulatur\, Sehnen\, Nerven\, etc.\nPraktische Übungen\n\nSonntag\, 09:00 – ca. 16:00h \n\nAurachirurgie an Schulter\, Hüfte\, Knie\, etc.\nPraktische Übungen\n \n\nZeitlicher Seminarablauf: \nFreitag:\n11:00 – 12:30h Anatomie\n12:30 – 14:00h Mittagessen\n14:00 – 18:30h Anatomie (dazwischen Kaffeepause)\n18:30 – 19:30h Abendessen\n19:30 – ca. 21:30h Seminarprogramm \nSamstag: \n07:00 – 08:00h Morgenmeditation (freiwillig)\n08:00 – 09:00h Frühstück\n09:00 – 12:30h Seminarprogramm (dazwischen Kaffeepause)\n12:30 – 14:00h Mittagessen\n14:00 – 18:30h Seminarprogramm (dazwischen Kaffeepause)\n18:30 – 19:30h Abendessen\n19:30 – ca 21:30h Seminarprogramm \nSonntag: \n07:00 – 08:00h Morgenmeditation (freiwillig)\n08:00 – 09:00h Frühstück\n09:00 – 12:30h Seminarprogramm (dazwischen Kaffeepause)\n12:30 – 14:00h Mittagessen\n14:00 – 16:00h Seminarprogramm\n16:00h Ende des Seminares / Kaffee und Kuchen \n  \nSeminargebühr: CHF 740\,- / 740\,- €  (exkl. Unterkunft und Verpflegung)\nAnmeldung an: Stefanie Bouleau (aurachirurgie.li@hotmail.com)\nTelefonische Auskunft: Brigitte Kellermann (089-930 94 240) \n  \nDie Hotelkosten werden vom Teilnehmer direkt an das Hotel bezahlt. \n  \nNach Eingang Ihrer Anmeldung erhalten Sie eine Bestätigung. Ihr Teilnahmeplatz ist verbindlich reserviert nach Eingang der Seminargebühr.
URL:https://brillicon.de/event/gerhard-f-kluegl-aurachirurgie-aufbauseminar/
LOCATION:Hotel Inseli\, Romanshorn\, Inselistrasse 6\, Romanshorn\, 8590\, Switzerland
CATEGORIES:BRILLICON,Gerhard Klügl
ORGANIZER;CN="Gerhard Kl%C3%BCgl":MAILTO:aurachirurgie.li@hotmail.com
END:VEVENT
END:VCALENDAR