BEGIN:VCALENDAR
VERSION:2.0
PRODID:-//Brillicon - ECPv6.15.20//NONSGML v1.0//EN
CALSCALE:GREGORIAN
METHOD:PUBLISH
X-WR-CALNAME:Brillicon
X-ORIGINAL-URL:https://brillicon.de
X-WR-CALDESC:Veranstaltungen für Brillicon
REFRESH-INTERVAL;VALUE=DURATION:PT1H
X-Robots-Tag:noindex
X-PUBLISHED-TTL:PT1H
BEGIN:VTIMEZONE
TZID:Europe/Berlin
BEGIN:DAYLIGHT
TZOFFSETFROM:+0100
TZOFFSETTO:+0200
TZNAME:CEST
DTSTART:20250330T010000
END:DAYLIGHT
BEGIN:STANDARD
TZOFFSETFROM:+0200
TZOFFSETTO:+0100
TZNAME:CET
DTSTART:20251026T010000
END:STANDARD
BEGIN:DAYLIGHT
TZOFFSETFROM:+0100
TZOFFSETTO:+0200
TZNAME:CEST
DTSTART:20260329T010000
END:DAYLIGHT
BEGIN:STANDARD
TZOFFSETFROM:+0200
TZOFFSETTO:+0100
TZNAME:CET
DTSTART:20261025T010000
END:STANDARD
BEGIN:DAYLIGHT
TZOFFSETFROM:+0100
TZOFFSETTO:+0200
TZNAME:CEST
DTSTART:20270328T010000
END:DAYLIGHT
BEGIN:STANDARD
TZOFFSETFROM:+0200
TZOFFSETTO:+0100
TZNAME:CET
DTSTART:20271031T010000
END:STANDARD
END:VTIMEZONE
BEGIN:VEVENT
DTSTART;TZID=Europe/Berlin:20260530T100000
DTEND;TZID=Europe/Berlin:20260530T180000
DTSTAMP:20260425T001921
CREATED:20260316T133323Z
LAST-MODIFIED:20260324T214633Z
UID:190-1780135200-1780164000@brillicon.de
SUMMARY:Helmut Neudert: Der Lebenskalender oder Psychomeridian
DESCRIPTION:Es gibt ein energetisch-geistiges Band im feinstofflichen Körper des Menschen\, das sich vom Scheitelpunkt des Kopfes über den Hinterkopf bis zum Atlas zieht. \n\n\n\nDer Lebensenergieforscher Erich  Körbler bezeichnete den Teilabschnitt dieses Meridians\, der über den Hinterkopf läuft als „Psychomeridian“ und brachte psychische Probleme mit energetischen Störungen in diesem Bereich in Verbindung.\nDadurch können mit der Arbeit am Psychomeridian diese psychosomatischen Kopplungen erkannt und behandelt werden. Dieses Energieband am Hinterkopf hat einen Bezug zu unseren bewussten und unbewussten Erinnerungen. Es registriert all unsere Erkenntnisse und Erlebnisse und gibt sie an andere Energiebereiche weiter.\nAuch Lebensmittelallergien und Asthma können durch Traumen im Lebenskalender ausgelöst sein und energetisch behandelt werden.\n\n\nHelmut Neudert\, Medium und Heiler\, vermittelt Grundwissen und -methoden zum Psychomeridian\, sowie das Aufspüren von Blockaden mittels der Einhandrute.\n\n\n\n  \nVeranstaltungsort: Helmut Neudert\, Harlachmühle 2\, 95679 Waldershof \nSeminargebühr: € 170\,– \nAnmeldung bitte per Mail an helmut.neudert@t-online.de \nmaximal 10 Teilnehmer  \n  \nÜbernachtungsmöglichkeit gleich in der Nähe: \nLandgasthof Steinwald\, Harlachberg 4\, 95704 Pullenreuth \nHomepage: www.landgasthof-steinwald.de \nZimmerbuchung bitte direkt mit Landgasthof Steinwald Tel.Nr. 09234/380 \n  \nFür weitere Fragen dazu steht Helmut Neudert jederzeit zur Verfügung\, Tel.Nr. 09234/6812
URL:https://brillicon.de/event/der-lebenskalender-oder-psychomeridian/
LOCATION:Helmut Neudert\, Harlachmühle 2\, Harlachmühle 2\, Waldershof\, 95679\, Germany
CATEGORIES:BRILLICON
ORGANIZER;CN="Helmut Neudert":MAILTO:helmut.neudert@t-online.de
END:VEVENT
END:VCALENDAR