BEGIN:VCALENDAR
VERSION:2.0
PRODID:-//Brillicon - ECPv6.15.20//NONSGML v1.0//EN
CALSCALE:GREGORIAN
METHOD:PUBLISH
X-ORIGINAL-URL:https://brillicon.de
X-WR-CALDESC:Veranstaltungen für Brillicon
REFRESH-INTERVAL;VALUE=DURATION:PT1H
X-Robots-Tag:noindex
X-PUBLISHED-TTL:PT1H
BEGIN:VTIMEZONE
TZID:Europe/Berlin
BEGIN:DAYLIGHT
TZOFFSETFROM:+0100
TZOFFSETTO:+0200
TZNAME:CEST
DTSTART:20250330T010000
END:DAYLIGHT
BEGIN:STANDARD
TZOFFSETFROM:+0200
TZOFFSETTO:+0100
TZNAME:CET
DTSTART:20251026T010000
END:STANDARD
BEGIN:DAYLIGHT
TZOFFSETFROM:+0100
TZOFFSETTO:+0200
TZNAME:CEST
DTSTART:20260329T010000
END:DAYLIGHT
BEGIN:STANDARD
TZOFFSETFROM:+0200
TZOFFSETTO:+0100
TZNAME:CET
DTSTART:20261025T010000
END:STANDARD
BEGIN:DAYLIGHT
TZOFFSETFROM:+0100
TZOFFSETTO:+0200
TZNAME:CEST
DTSTART:20270328T010000
END:DAYLIGHT
BEGIN:STANDARD
TZOFFSETFROM:+0200
TZOFFSETTO:+0100
TZNAME:CET
DTSTART:20271031T010000
END:STANDARD
END:VTIMEZONE
BEGIN:VEVENT
DTSTART;TZID=Europe/Berlin:20260619T100000
DTEND;TZID=Europe/Berlin:20260621T170000
DTSTAMP:20260425T014859
CREATED:20260316T134640Z
LAST-MODIFIED:20260324T214612Z
UID:199-1781863200-1782061200@brillicon.de
SUMMARY:Helmut Neudert: Mediale Erlebnistage im Steinwald (von Gerhard Klügl empfohlen)
DESCRIPTION:Seminarleiter: Helmut Neudert\, Medium und Heiler (ausgebildet u. a. durch Paul Meek) und Ina Brückner\, Mediale Lebensberaterin und Heilerin \n  \nZielsetzung:\nDer Prozess der Medialität soll spürbar werden. Wir erhalten eine Idee davon\, wie Medialität eigentlich funktioniert und welchen Einfluss die Chakren auf die Ausbildung unserer medialen Fähigkeiten haben. Außerdem erfahren wir\, welcher mediale Typ wir eigentlich sind und wie wir unsere Fähigkeiten – auch später für sich selbst – weiter entwickeln und zum eigenen Wohl und dem Wohl anderer bei allen wichtigen Lebensfragen einsetzen können.\nDesweiteren können die Teilnehmer lernen\, bzw. die Fähigkeit in sich wiederentdecken\, in der eigenen Akasha Chronik zu lesen und dies zu ihrer Selbstermächtigung in seinem Leben zu nutzen. \n  \nÜber vielfältige Mediationen und spirituelle Übungen kommen wir mit uns selbst und der geistigen Welt in Verbindung und schöpfen Kraft für die Bewältigung und Harmonisierung unserer Lebenswelt.\nInhalt:\n– Theorie zur Medialität und Chakren-Arbeit\n– Einführung in die mediale Arbeit und die Arbeit mit den Chakren\n– Stabilisierung des eigenen medialen Kanals\n– Entwicklung der Feinfühligkeit durch Stärkung der inneren Wahrnehmung\n– Einführung in die Bedeutung der Aura und verschiedene Übungen zur Aura-Arbeit\n– Die Aura fühlen und spüren mit allen (medialen) Sinnen\n– Aktivierung des Herz-Chakras als Zentrum für Medialität und Heilung\n– Einstimmung auf die Akasha Chronik und sich mit diesem Feld zu verbinden\n– Die Erfüllung der Voraussetzungen dafür\, um dies möglich zu machen\n– Fragen an die Akasha Chronik formulieren\n– Lesen in der eigenen Akasha Chronik\, um Antworten auf Fragen zu erhalten\, die uns bewegen\n– Übungen und Meditationen zur Steigerung der Medialität und um Zugang zur Akasha Chronik zu erhalten\n– Viel Raum zur Erholung\, Naturerfahrung und Achtsamkeit\n– Zeit für persönliche Gespräche und individuelle Impulse zur Heilung und Persönlichkeitsentwicklung \n  \nOrt: Helmut Neudert\, Harlachmühle 2\, 95679 Waldershof\nSeminargebühr: € 470\,– (excl. Hotel und Verpflegung) \n  \nAnmeldung bitte per Mail an: helmut.neudert@t-online.de\n(mit Namen\, Adresse und Telefonnummer) \nMaximal 10 Teilnehmer \n  \nÜbernachtungsmöglichkeit gleich in der Nähe:\nLandgasthof Steinwald\, Harlachberg 4\, 95704 Pullenreuth\nHomepage: www.landgasthof-steinwald.de\nZimmerbuchung bitte direkt mit Landgasthof Steinwald\, Tel.Nr. 09234/380
URL:https://brillicon.de/event/mediale-erlebnistage-im-steinwald-oberpfalz-von-gerhard-kluegl-empfohlen/
LOCATION:Helmut Neudert\, Harlachmühle 2\, Harlachmühle 2\, Waldershof\, 95679\, Germany
CATEGORIES:BRILLICON
ORGANIZER;CN="Helmut Neudert":MAILTO:helmut.neudert@t-online.de
END:VEVENT
END:VCALENDAR