BEGIN:VCALENDAR
VERSION:2.0
PRODID:-//Brillicon - ECPv6.15.20//NONSGML v1.0//EN
CALSCALE:GREGORIAN
METHOD:PUBLISH
X-WR-CALNAME:Brillicon
X-ORIGINAL-URL:https://brillicon.de
X-WR-CALDESC:Veranstaltungen für Brillicon
REFRESH-INTERVAL;VALUE=DURATION:PT1H
X-Robots-Tag:noindex
X-PUBLISHED-TTL:PT1H
BEGIN:VTIMEZONE
TZID:Europe/Berlin
BEGIN:DAYLIGHT
TZOFFSETFROM:+0100
TZOFFSETTO:+0200
TZNAME:CEST
DTSTART:20250330T010000
END:DAYLIGHT
BEGIN:STANDARD
TZOFFSETFROM:+0200
TZOFFSETTO:+0100
TZNAME:CET
DTSTART:20251026T010000
END:STANDARD
BEGIN:DAYLIGHT
TZOFFSETFROM:+0100
TZOFFSETTO:+0200
TZNAME:CEST
DTSTART:20260329T010000
END:DAYLIGHT
BEGIN:STANDARD
TZOFFSETFROM:+0200
TZOFFSETTO:+0100
TZNAME:CET
DTSTART:20261025T010000
END:STANDARD
BEGIN:DAYLIGHT
TZOFFSETFROM:+0100
TZOFFSETTO:+0200
TZNAME:CEST
DTSTART:20270328T010000
END:DAYLIGHT
BEGIN:STANDARD
TZOFFSETFROM:+0200
TZOFFSETTO:+0100
TZNAME:CET
DTSTART:20271031T010000
END:STANDARD
END:VTIMEZONE
BEGIN:VEVENT
DTSTART;TZID=Europe/Berlin:20260628T180000
DTEND;TZID=Europe/Berlin:20260703T160000
DTSTAMP:20260425T014437
CREATED:20260316T135227Z
LAST-MODIFIED:20260324T215619Z
UID:203-1782669600-1783094400@brillicon.de
SUMMARY:Gerhard Klügl: Aurachirurgie-Basisseminar
DESCRIPTION:Voraussetzungen: Zu diesem Seminar sind Ärzte\, Heilpraktiker\, Physiotherapeuten\, Krankenschwestern und -Pfleger\, und Massagetherapeuten mit Berufserfahrung und anatomischen Kenntnissen zugelassen. Psychische Stabilität ist Voraussetzung zum feinstofflichen Heilen. \n  \nSeminarinhalt Aurachirurgie  – Basisseminar: \n\nLösen von ewigen Eiden und Gelübden\, Lösen von Schuld\nLösen karmischer Muster und Blockaden aus der Aura\nAuflösen von vererbten Belastungen und Manipulationen\nErdgebundene Seelen\nEmotionale Muster\nPhysikalische Grundlagen\, philosophisch-ethische Basis\nPraktische Übungen zur Steigerung der Sensibilität feinstofflicher Gegebenheiten\nEnergetische Übungen zum Fühlen der Aura\nGesetze des Universums\, morphologisches Feld\nMorphogenetisches Feld\nMeditation\, Musik\nScript\, Literaturliste\n              \n\nSie erhalten Einblick in \n\nAnwendung der Aurachirurgie\nErkenntnisse der Quantenmechanik\nGrundsätze des feinstofflichen Heilens\nEinbeziehung von Musik und Bewegung\n\nDie Energie unserer Aura ist wie ein Informationsspeicher. Die Erkenntnisse der Quantenmechanik\, dass Energie ein Gedächtnis hat\, liefern hierfür den wissenschaftlichen Beweis. So enthält die Aura auch Informationen\, die von Ereignissen aus früheren Leben stammen können oder aus dem morphogenetischen Bewussteinsfeld und sich im Leben oft als unerklärliche Blockaden und Ängste bemerkbar machen. \nZiel dieses Seminars ist es\, die Möglichkeiten der feinstofflichen Chirurgie kennen- und anwenden zu lernen sowie ungelöste karmische Muster aufzudecken und zu heilen. Dazu wird durch energetische Übungen zuerst das Fühlen der eigenen Aura und dann die der anderen Personen geübt. Es wird gezeigt\, wie karmische Muster in der Aura erkannt und aufgelöst werden können. So werden fast alle in früheren Zeiten üblichen Methoden des Folterns und Hinrichtens erklärt und die Praxis des Auflösens gezeigt und geübt. \nEin weiterer wichtiger Faktor des Heilens ist es\, die Harmonie wieder herzustellen sowie Lebensfreude zu wecken. \nDie Einbeziehung von Musik\, Klängen und Bewegung unterstützt Sie dabei\, Quellen der Freude zu entdecken\, zur eigenen Heilung zu finden\, und Antworten zu erhalten auf Fragen wie \n\nWas ist Leben?\nWarum werden wir krank?\nWie kann Heilung geschehen?\n\n  \nZeitlicher Seminarablauf: \nSonntag: \n18:00h Treffen im Seminarraum \n19:00h gemeinsames Abendessen \n20:00h Seminarprogramm bis ca. 22:00h \nMontag – Donnerstag: \n07:00 – 08:00h Morgenmeditation (freiwillig) \n08:00 – 09:00h Frühstück \n09:00 – 12:30h Seminarprogramm (dazwischen Kaffeepause) \n12:30 – 14:00h Mittagessen \n14:00 – 18:30h Seminarprogramm (dazwischen Kaffeepause) \n18:30 – 19:30h Abendessen \n19:30 – ca. 22:00h Seminarprogramm \nFreitag: \n07:00 – 08:00h Morgenmeditation (freiwillig) \n08:00 – 09:00h Frühstück \n09:00 – 12:30h Seminarprogramm (dazwischen Kaffeepause) \n12:30 – 14:00h Mittagessen \n14:00 – 16:00h Seminarprogramm \n16:00h Ende des Seminares / Kaffee und Kuchen \n  \nSeminargebühr: CHF 1430\,- / 1430\,- €  (exkl. Unterkunft und Verpflegung)\nAnmeldung an: Stefanie Bouleau (aurachirurgie.li@hotmail.com)\nTelefonische Auskunft: Brigitte Kellermann (089-930 94 240) \n  \nMit dem Anmeldeformular erhalten Sie eine Anfahrtsbeschreibung und die Hotelinformationen. \nNach Eingang Ihrer Anmeldung erhalten Sie die Anmeldebestätigung sowie die Rechnung über die Seminargebühr. \nBitte buchen Sie Ihr Hotelzimmer nachdem Ihre Anmeldung bestätigt wurde.
URL:https://brillicon.de/event/gerhard-f-kluegl-aurachirurgie-basisseminar/
LOCATION:Hotel Inseli\, Romanshorn\, Inselistrasse 6\, Romanshorn\, 8590\, Switzerland
CATEGORIES:BRILLICON,Gerhard Klügl
ORGANIZER;CN="Gerhard Kl%C3%BCgl":MAILTO:aurachirurgie.li@hotmail.com
END:VEVENT
END:VCALENDAR