BEGIN:VCALENDAR
VERSION:2.0
PRODID:-//Brillicon - ECPv6.15.20//NONSGML v1.0//EN
CALSCALE:GREGORIAN
METHOD:PUBLISH
X-WR-CALNAME:Brillicon
X-ORIGINAL-URL:https://brillicon.de
X-WR-CALDESC:Veranstaltungen für Brillicon
REFRESH-INTERVAL;VALUE=DURATION:PT1H
X-Robots-Tag:noindex
X-PUBLISHED-TTL:PT1H
BEGIN:VTIMEZONE
TZID:Europe/Berlin
BEGIN:DAYLIGHT
TZOFFSETFROM:+0100
TZOFFSETTO:+0200
TZNAME:CEST
DTSTART:20250330T010000
END:DAYLIGHT
BEGIN:STANDARD
TZOFFSETFROM:+0200
TZOFFSETTO:+0100
TZNAME:CET
DTSTART:20251026T010000
END:STANDARD
BEGIN:DAYLIGHT
TZOFFSETFROM:+0100
TZOFFSETTO:+0200
TZNAME:CEST
DTSTART:20260329T010000
END:DAYLIGHT
BEGIN:STANDARD
TZOFFSETFROM:+0200
TZOFFSETTO:+0100
TZNAME:CET
DTSTART:20261025T010000
END:STANDARD
BEGIN:DAYLIGHT
TZOFFSETFROM:+0100
TZOFFSETTO:+0200
TZNAME:CEST
DTSTART:20270328T010000
END:DAYLIGHT
BEGIN:STANDARD
TZOFFSETFROM:+0200
TZOFFSETTO:+0100
TZNAME:CET
DTSTART:20271031T010000
END:STANDARD
END:VTIMEZONE
BEGIN:VEVENT
DTSTART;TZID=Europe/Berlin:20260718T090000
DTEND;TZID=Europe/Berlin:20260719T160000
DTSTAMP:20260425T031548
CREATED:20260324T223420Z
LAST-MODIFIED:20260324T223420Z
UID:514-1784365200-1784476800@brillicon.de
SUMMARY:Gerhard Klügl: Astrologie und Aurachirurgie Teil I - für alle Interessenten
DESCRIPTION:Einführung in die Astrologie\, Bedeutung der Tierkreiszeichen und Planeten\, Deutung eines Horoskops. Maximal 18 Teilnehmer\, keine Vorkenntnisse nötig. Gerhard Klügl gibt dieses Seminar um die kosmischen Abläufe im Zeitgeschehen besser verständlich zu machen und es den Teilnehmern zu ermöglichen\, Antworten für sich selbst zu finden\, wie „wer bin ich\, wo komme ich her und wo gehe ich hin“. \nGebühr: €/CHF 495\,- \nAnmeldung bei Brigitte Kellermann (bkm@brillicon.de\, +49 (0)89 93094240)
URL:https://brillicon.de/event/gerhard-kluegl-astrologie-und-aurachirurgie-teil-i-fuer-alle-interessenten/
LOCATION:Hotel Inseli\, Romanshorn\, Inselistrasse 6\, Romanshorn\, 8590\, Switzerland
CATEGORIES:BRILLICON,Gerhard Klügl
ORGANIZER;CN="Gerhard Kl%C3%BCgl":MAILTO:aurachirurgie.li@hotmail.com
END:VEVENT
END:VCALENDAR