BEGIN:VCALENDAR
VERSION:2.0
PRODID:-//Brillicon - ECPv6.15.20//NONSGML v1.0//EN
CALSCALE:GREGORIAN
METHOD:PUBLISH
X-WR-CALNAME:Brillicon
X-ORIGINAL-URL:https://brillicon.de
X-WR-CALDESC:Veranstaltungen für Brillicon
REFRESH-INTERVAL;VALUE=DURATION:PT1H
X-Robots-Tag:noindex
X-PUBLISHED-TTL:PT1H
BEGIN:VTIMEZONE
TZID:Europe/Berlin
BEGIN:DAYLIGHT
TZOFFSETFROM:+0100
TZOFFSETTO:+0200
TZNAME:CEST
DTSTART:20250330T010000
END:DAYLIGHT
BEGIN:STANDARD
TZOFFSETFROM:+0200
TZOFFSETTO:+0100
TZNAME:CET
DTSTART:20251026T010000
END:STANDARD
BEGIN:DAYLIGHT
TZOFFSETFROM:+0100
TZOFFSETTO:+0200
TZNAME:CEST
DTSTART:20260329T010000
END:DAYLIGHT
BEGIN:STANDARD
TZOFFSETFROM:+0200
TZOFFSETTO:+0100
TZNAME:CET
DTSTART:20261025T010000
END:STANDARD
BEGIN:DAYLIGHT
TZOFFSETFROM:+0100
TZOFFSETTO:+0200
TZNAME:CEST
DTSTART:20270328T010000
END:DAYLIGHT
BEGIN:STANDARD
TZOFFSETFROM:+0200
TZOFFSETTO:+0100
TZNAME:CET
DTSTART:20271031T010000
END:STANDARD
END:VTIMEZONE
BEGIN:VEVENT
DTSTART;TZID=Europe/Berlin:20260926T100000
DTEND;TZID=Europe/Berlin:20260927T170000
DTSTAMP:20260425T061138
CREATED:20260324T224119Z
LAST-MODIFIED:20260330T161504Z
UID:518-1790416800-1790528400@brillicon.de
SUMMARY:Ariane Vogl: Ausbildung zum medialen Engel-Energetiker/in
DESCRIPTION:Hier lernst du die Erzengel und deren spezifischen Wirkweisen kennen\, die Engel voneinander zu unterscheiden\, die Sprache der Engel zu verstehen und Methoden\, wie die Energien der Erzengel heilsam und liebevoll durch dich strömen. \nDu erfährst die Bedeutung der einzelnen Aura-Schichten und Chakren\, deren Wirkung/ Ausstrahlung auf den Körper\, wie alte Erlebnisse den Energiefluss blockieren können\, du diese durch die Kraft der Engel wandelst und dazu auch abgespaltene Seelenanteile integrierst. \nAriane Vogl hat seit ihrer Kindheit Kontakte zu Engeln und Lichtwesen. Vor 18 Jahren hat sie es zu ihrer Berufung gemacht. Sie verfügt dadurch über ein tiefes Wissen um die Lichtwesen und Erzengel\, hat daraus ein Skript konzipiert und Schulungen entwickelt. Es ist ihr wichtig\, dieses Wissen praxisnah an Menschen zu vermitteln. \nDie Ausbildung findet in einer kleinen Gruppe an fünf Wochenenden statt. Nach erfolgreichem Abschluss der Ausbildung erhälst du ein Diplom. \nFolgetermine:\n31.10.2026 und 1.11.2026\n5.12.2026 und 6.12.2026\n30.1.2027 und 31.1.2027\n27.2.2027 und 28.2.2027 \nSeminarzeiten: jeweils Samstag 10:00 -17:00 Uhr\, Sonntag 10:00 – 16:00 \n  \nOrt: Brillicon Zentrum in München\, Dorpater Straße 11\, 81927 München \n  \nSeminarinhalt und weitere Infos: www.ariane-vogl.de \n  \nSeminargebühr: € 1930\,- (gesamte Ausbildung\, inklusive Skript) \n  \nAnmeldung: info@seelengleichgewicht.de\, 0175 – 271 28 72
URL:https://brillicon.de/event/ariane-vogl-ausbildung-zum-medialen-engel-energetiker-in/
LOCATION:BRILLICON\, München Bogenhausen\, Dorpater Straße 11\, München\, Bayern\, 81927\, Germany
CATEGORIES:BRILLICON
END:VEVENT
END:VCALENDAR