BEGIN:VCALENDAR
VERSION:2.0
PRODID:-//Brillicon - ECPv6.15.20//NONSGML v1.0//EN
CALSCALE:GREGORIAN
METHOD:PUBLISH
X-WR-CALNAME:Brillicon
X-ORIGINAL-URL:https://brillicon.de
X-WR-CALDESC:Veranstaltungen für Brillicon
REFRESH-INTERVAL;VALUE=DURATION:PT1H
X-Robots-Tag:noindex
X-PUBLISHED-TTL:PT1H
BEGIN:VTIMEZONE
TZID:Europe/Berlin
BEGIN:DAYLIGHT
TZOFFSETFROM:+0100
TZOFFSETTO:+0200
TZNAME:CEST
DTSTART:20260329T010000
END:DAYLIGHT
BEGIN:STANDARD
TZOFFSETFROM:+0200
TZOFFSETTO:+0100
TZNAME:CET
DTSTART:20261025T010000
END:STANDARD
BEGIN:DAYLIGHT
TZOFFSETFROM:+0100
TZOFFSETTO:+0200
TZNAME:CEST
DTSTART:20270328T010000
END:DAYLIGHT
BEGIN:STANDARD
TZOFFSETFROM:+0200
TZOFFSETTO:+0100
TZNAME:CET
DTSTART:20271031T010000
END:STANDARD
BEGIN:DAYLIGHT
TZOFFSETFROM:+0100
TZOFFSETTO:+0200
TZNAME:CEST
DTSTART:20280326T010000
END:DAYLIGHT
BEGIN:STANDARD
TZOFFSETFROM:+0200
TZOFFSETTO:+0100
TZNAME:CET
DTSTART:20281029T010000
END:STANDARD
END:VTIMEZONE
BEGIN:VEVENT
DTSTART;TZID=Europe/Berlin:20270307T180000
DTEND;TZID=Europe/Berlin:20270312T160000
DTSTAMP:20260424T205418
CREATED:20260324T214927Z
LAST-MODIFIED:20260324T215651Z
UID:488-1804442400-1804867200@brillicon.de
SUMMARY:Gerhard Klügl: Aurachirurgie-Basisseminar
DESCRIPTION:Voraussetzungen: Zu diesem Seminar sind Ärzte\, Heilpraktiker\, Physiotherapeuten\, Krankenschwestern und -Pfleger\, und Massagetherapeuten mit Berufserfahrung und anatomischen Kenntnissen zugelassen. Psychische Stabilität ist Voraussetzung zum feinstofflichen Heilen. \n  \nSeminarinhalt Aurachirurgie  – Basisseminar: \n\nLösen von ewigen Eiden und Gelübden\, Lösen von Schuld\nLösen karmischer Muster und Blockaden aus der Aura\nAuflösen von vererbten Belastungen und Manipulationen\nErdgebundene Seelen\nEmotionale Muster\nPhysikalische Grundlagen\, philosophisch-ethische Basis\nPraktische Übungen zur Steigerung der Sensibilität feinstofflicher Gegebenheiten\nEnergetische Übungen zum Fühlen der Aura\nGesetze des Universums\, morphologisches Feld\nMorphogenetisches Feld\nMeditation\, Musik\nScript\, Literaturliste\n              \n\nSie erhalten Einblick in \n\nAnwendung der Aurachirurgie\nErkenntnisse der Quantenmechanik\nGrundsätze des feinstofflichen Heilens\nEinbeziehung von Musik und Bewegung\n\nDie Energie unserer Aura ist wie ein Informationsspeicher. Die Erkenntnisse der Quantenmechanik\, dass Energie ein Gedächtnis hat\, liefern hierfür den wissenschaftlichen Beweis. So enthält die Aura auch Informationen\, die von Ereignissen aus früheren Leben stammen können oder aus dem morphogenetischen Bewussteinsfeld und sich im Leben oft als unerklärliche Blockaden und Ängste bemerkbar machen. \nZiel dieses Seminars ist es\, die Möglichkeiten der feinstofflichen Chirurgie kennen- und anwenden zu lernen sowie ungelöste karmische Muster aufzudecken und zu heilen. Dazu wird durch energetische Übungen zuerst das Fühlen der eigenen Aura und dann die der anderen Personen geübt. Es wird gezeigt\, wie karmische Muster in der Aura erkannt und aufgelöst werden können. So werden fast alle in früheren Zeiten üblichen Methoden des Folterns und Hinrichtens erklärt und die Praxis des Auflösens gezeigt und geübt. \nEin weiterer wichtiger Faktor des Heilens ist es\, die Harmonie wieder herzustellen sowie Lebensfreude zu wecken. \nDie Einbeziehung von Musik\, Klängen und Bewegung unterstützt Sie dabei\, Quellen der Freude zu entdecken\, zur eigenen Heilung zu finden\, und Antworten zu erhalten auf Fragen wie \n\nWas ist Leben?\nWarum werden wir krank?\nWie kann Heilung geschehen?\n\n  \nZeitlicher Seminarablauf: \nSonntag: \n18:00h Treffen im Seminarraum \n19:00h gemeinsames Abendessen \n20:00h Seminarprogramm bis ca. 22:00h \nMontag – Donnerstag: \n07:00 – 08:00h Morgenmeditation (freiwillig) \n08:00 – 09:00h Frühstück \n09:00 – 12:30h Seminarprogramm (dazwischen Kaffeepause) \n12:30 – 14:00h Mittagessen \n14:00 – 18:30h Seminarprogramm (dazwischen Kaffeepause) \n18:30 – 19:30h Abendessen \n19:30 – ca. 22:00h Seminarprogramm \nFreitag: \n07:00 – 08:00h Morgenmeditation (freiwillig) \n08:00 – 09:00h Frühstück \n09:00 – 12:30h Seminarprogramm (dazwischen Kaffeepause) \n12:30 – 14:00h Mittagessen \n14:00 – 16:00h Seminarprogramm \n16:00h Ende des Seminares / Kaffee und Kuchen \n  \nSeminargebühr: CHF 1430\,- / 1430\,- €  (exkl. Unterkunft und Verpflegung)\nAnmeldung an: Stefanie Bouleau (aurachirurgie.li@hotmail.com)\nTelefonische Auskunft: Brigitte Kellermann (089-930 94 240) \n  \nMit dem Anmeldeformular erhalten Sie eine Anfahrtsbeschreibung und die Hotelinformationen. \nNach Eingang Ihrer Anmeldung erhalten Sie die Anmeldebestätigung sowie die Rechnung über die Seminargebühr. \nBitte buchen Sie Ihr Hotelzimmer nachdem Ihre Anmeldung bestätigt wurde.
URL:https://brillicon.de/event/gerhard-kluegl-basisseminar-aurachirurgie/
LOCATION:Hotel Inseli\, Romanshorn\, Inselistrasse 6\, Romanshorn\, 8590\, Switzerland
CATEGORIES:BRILLICON,Gerhard Klügl
ORGANIZER;CN="Gerhard Kl%C3%BCgl":MAILTO:aurachirurgie.li@hotmail.com
END:VEVENT
BEGIN:VEVENT
DTSTART;TZID=Europe/Berlin:20270409T110000
DTEND;TZID=Europe/Berlin:20270411T160000
DTSTAMP:20260424T205418
CREATED:20260324T222020Z
LAST-MODIFIED:20260324T222020Z
UID:504-1807268400-1807459200@brillicon.de
SUMMARY:Gerhard Klügl: Aurachirurgie-Aufbauseminar
DESCRIPTION:Aurachirurgie III:  Aurachirurgie am Bewegungsapparat\, Anatomie \n  \nVoraussetzungen: Aurachirurgie Basisseminar (Aurachirurgie I und II kompakt)\, zu diesem Seminar sind nur Ärzte\, Heilpraktiker und Physiotherapeuten mit Berufserfahrung und anatomischen Kenntnissen zugelassen. Psychische Stabilität ist Voraussetzung zum feinstofflichen Heilen. \n  \nSeminarinhalte: \nFreitag\, 11:00 – 21:00h \n\nAnatomische Voraussetzungen für die Aurachirurgie\nSkelettstrukturen\nMuskeln\, Bänder\, Sehnen\nBindegewebsstrukturen\, v.a. Knorpel und Bandscheiben\nInnervationen und Blutversorgungen\nTypische klinische Symptomatiken\nDiagnosekriterien\n\nSamstag\, 09:00 –21:30h \n\nZusammenfassung Basisseminar\nLösen karmischer Muster und Blockaden aus der Aura (weiterführend)\nAurachirurgie an Wirbelsäule\, Muskulatur\, Sehnen\, Nerven\, etc.\nPraktische Übungen\n\nSonntag\, 09:00 – ca. 16:00h \n\nAurachirurgie an Schulter\, Hüfte\, Knie\, etc.\nPraktische Übungen\n \n\nZeitlicher Seminarablauf: \nFreitag:\n11:00 – 12:30h Anatomie\n12:30 – 14:00h Mittagessen\n14:00 – 18:30h Anatomie (dazwischen Kaffeepause)\n18:30 – 19:30h Abendessen\n19:30 – ca. 21:30h Seminarprogramm \nSamstag: \n07:00 – 08:00h Morgenmeditation (freiwillig)\n08:00 – 09:00h Frühstück\n09:00 – 12:30h Seminarprogramm (dazwischen Kaffeepause)\n12:30 – 14:00h Mittagessen\n14:00 – 18:30h Seminarprogramm (dazwischen Kaffeepause)\n18:30 – 19:30h Abendessen\n19:30 – ca 21:30h Seminarprogramm \nSonntag: \n07:00 – 08:00h Morgenmeditation (freiwillig)\n08:00 – 09:00h Frühstück\n09:00 – 12:30h Seminarprogramm (dazwischen Kaffeepause)\n12:30 – 14:00h Mittagessen\n14:00 – 16:00h Seminarprogramm\n16:00h Ende des Seminares / Kaffee und Kuchen \n  \nSeminargebühr: CHF 740\,- / 740\,- €  (exkl. Unterkunft und Verpflegung)\nAnmeldung an: Stefanie Bouleau (aurachirurgie.li@hotmail.com)\nTelefonische Auskunft: Brigitte Kellermann (089-930 94 240) \n  \nDie Hotelkosten werden vom Teilnehmer direkt an das Hotel bezahlt. \n  \nNach Eingang Ihrer Anmeldung erhalten Sie eine Bestätigung. Ihr Teilnahmeplatz ist verbindlich reserviert nach Eingang der Seminargebühr.
URL:https://brillicon.de/event/gerhard-kluegl-aurachirurgie-aufbauseminar-3/
LOCATION:Hotel Inseli\, Romanshorn\, Inselistrasse 6\, Romanshorn\, 8590\, Switzerland
CATEGORIES:BRILLICON,Gerhard Klügl
ORGANIZER;CN="Gerhard Kl%C3%BCgl":MAILTO:aurachirurgie.li@hotmail.com
END:VEVENT
BEGIN:VEVENT
DTSTART;TZID=Europe/Berlin:20270507T110000
DTEND;TZID=Europe/Berlin:20270509T160000
DTSTAMP:20260424T205418
CREATED:20260324T222727Z
LAST-MODIFIED:20260324T222727Z
UID:510-1809687600-1809878400@brillicon.de
SUMMARY:Gerhard Klügl: Aurachirurgie-Abschlussseminar mit Zertifizierung
DESCRIPTION:Aurachirugie IV: Aurachirurgie an Inneren Organen\, Endokrines System\, Abschließende Überprüfung und Ausstellung der Urkunde: „Zertifizierter Auratherapeut nach Gerhard Klügl“ \n  \nVoraussetzungen: Basisseminar; Aufbauseminar \n  \nSeminarinhalte: \nFreitag\, 11:00 – 21:00h \n\nAnatomische Voraussetzungen für die Aurachirurgie\nKenntnisse zu den inneren Organen\nFunktionsprinzipien einzelner Organsysteme\nInnervationen und Blutversorgungen\nErkenntnisse aus der Mikrobiomforschung im Darm\nTypische klinische Symptomatiken\nDiagnosekriterien\n\nSamstag\, 09:00 –21:30h \n\nZusammenfassung Basisseminar und Aufbauseminar\, Vertiefung der erlernten Inhalte und Methoden\nGehirn\, Sinnesorgane\, Augen\, Ohren\, Atmungs- und Verdauungstrakt\nPraktische Übungen\n\nSonntag\, 09:00 – ca. 16:00h \n\nAurachirurgie an Schulter\, Hüfte\, Knie\, etc.\nPraktische Übungen\n\n  \nZeitlicher Seminarablauf: \nFreitag:\n11:00 – 12:30h Anatomie\n12:30 – 14:00h Mittagessen\n14:00 – 18:30h Anatomie (dazwischen Kaffeepause)\n18:30 – 19:30h Abendessen\n19:30 – ca. 21:30h Seminarprogramm \nSamstag:\n07:00 – 08:00h Morgenmeditation (freiwillig)\n08:00 – 09:00h Frühstück\n09:00 – 12:30h Seminarprogramm (dazwischen Kaffeepause)\n12:30 – 14:00h Mittagessen\n14:00 – 18:30h Seminarprogramm (dazwischen Kaffeepause)\n18:30 – 19:30h Abendessen\n19:30 – ca 21:30h Seminarprogramm \nSonntag:\n07:00 – 08:00h Morgenmeditation (freiwillig)\n08:00 – 09:00h Frühstück\n09:00 – 12:30h Seminarprogramm (dazwischen Kaffeepause)\n12:30 – 14:00h Mittagessen\n14:00 – 16:00h Seminarprogramm\n16:00h Ende des Seminares / Kaffee und Kuchen \n  \nSeminargebühr: CHF 740\,- / 740\,- €  (exkl. Unterkunft und Verpflegung)\nAnmeldung an: Stefanie Bouleau (aurachirurgie.li@hotmail.com)\nTelefonische Auskunft: Brigitte Kellermann (089-930 94 240) \n  \nDie Hotelkosten werden vom Teilnehmer direkt an das Hotel bezahlt. \n  \nNach Eingang Ihrer Anmeldung erhalten Sie eine Bestätigung. Ihr Teilnahmeplatz ist verbindlich reserviert nach Eingang der Seminargebühr.
URL:https://brillicon.de/event/gerhard-kluegl-aurachirurgie-abschlussseminar-mit-zertifizierung-2/
LOCATION:Hotel Inseli\, Romanshorn\, Inselistrasse 6\, Romanshorn\, 8590\, Switzerland
CATEGORIES:BRILLICON,Gerhard Klügl
ORGANIZER;CN="Gerhard Kl%C3%BCgl":MAILTO:aurachirurgie.li@hotmail.com
END:VEVENT
BEGIN:VEVENT
DTSTART;TZID=Europe/Berlin:20270613T180000
DTEND;TZID=Europe/Berlin:20270618T160000
DTSTAMP:20260424T205418
CREATED:20260324T215428Z
LAST-MODIFIED:20260324T215708Z
UID:496-1812909600-1813334400@brillicon.de
SUMMARY:Gerhard Klügl: Aurachirurgie-Basisseminar
DESCRIPTION:Voraussetzungen: Zu diesem Seminar sind Ärzte\, Heilpraktiker\, Physiotherapeuten\, Krankenschwestern und -Pfleger\, und Massagetherapeuten mit Berufserfahrung und anatomischen Kenntnissen zugelassen. Psychische Stabilität ist Voraussetzung zum feinstofflichen Heilen. \n  \nSeminarinhalt Aurachirurgie  – Basisseminar: \n\nLösen von ewigen Eiden und Gelübden\, Lösen von Schuld\nLösen karmischer Muster und Blockaden aus der Aura\nAuflösen von vererbten Belastungen und Manipulationen\nErdgebundene Seelen\nEmotionale Muster\nPhysikalische Grundlagen\, philosophisch-ethische Basis\nPraktische Übungen zur Steigerung der Sensibilität feinstofflicher Gegebenheiten\nEnergetische Übungen zum Fühlen der Aura\nGesetze des Universums\, morphologisches Feld\nMorphogenetisches Feld\nMeditation\, Musik\nScript\, Literaturliste\n              \n\nSie erhalten Einblick in \n\nAnwendung der Aurachirurgie\nErkenntnisse der Quantenmechanik\nGrundsätze des feinstofflichen Heilens\nEinbeziehung von Musik und Bewegung\n\nDie Energie unserer Aura ist wie ein Informationsspeicher. Die Erkenntnisse der Quantenmechanik\, dass Energie ein Gedächtnis hat\, liefern hierfür den wissenschaftlichen Beweis. So enthält die Aura auch Informationen\, die von Ereignissen aus früheren Leben stammen können oder aus dem morphogenetischen Bewussteinsfeld und sich im Leben oft als unerklärliche Blockaden und Ängste bemerkbar machen. \nZiel dieses Seminars ist es\, die Möglichkeiten der feinstofflichen Chirurgie kennen- und anwenden zu lernen sowie ungelöste karmische Muster aufzudecken und zu heilen. Dazu wird durch energetische Übungen zuerst das Fühlen der eigenen Aura und dann die der anderen Personen geübt. Es wird gezeigt\, wie karmische Muster in der Aura erkannt und aufgelöst werden können. So werden fast alle in früheren Zeiten üblichen Methoden des Folterns und Hinrichtens erklärt und die Praxis des Auflösens gezeigt und geübt. \nEin weiterer wichtiger Faktor des Heilens ist es\, die Harmonie wieder herzustellen sowie Lebensfreude zu wecken. \nDie Einbeziehung von Musik\, Klängen und Bewegung unterstützt Sie dabei\, Quellen der Freude zu entdecken\, zur eigenen Heilung zu finden\, und Antworten zu erhalten auf Fragen wie \n\nWas ist Leben?\nWarum werden wir krank?\nWie kann Heilung geschehen?\n\n  \nZeitlicher Seminarablauf: \nSonntag: \n18:00h Treffen im Seminarraum \n19:00h gemeinsames Abendessen \n20:00h Seminarprogramm bis ca. 22:00h \nMontag – Donnerstag: \n07:00 – 08:00h Morgenmeditation (freiwillig) \n08:00 – 09:00h Frühstück \n09:00 – 12:30h Seminarprogramm (dazwischen Kaffeepause) \n12:30 – 14:00h Mittagessen \n14:00 – 18:30h Seminarprogramm (dazwischen Kaffeepause) \n18:30 – 19:30h Abendessen \n19:30 – ca. 22:00h Seminarprogramm \nFreitag: \n07:00 – 08:00h Morgenmeditation (freiwillig) \n08:00 – 09:00h Frühstück \n09:00 – 12:30h Seminarprogramm (dazwischen Kaffeepause) \n12:30 – 14:00h Mittagessen \n14:00 – 16:00h Seminarprogramm \n16:00h Ende des Seminares / Kaffee und Kuchen \n  \nSeminargebühr: CHF 1430\,- / 1430\,- €  (exkl. Unterkunft und Verpflegung)\nAnmeldung an: Stefanie Bouleau (aurachirurgie.li@hotmail.com)\nTelefonische Auskunft: Brigitte Kellermann (089-930 94 240) \n  \nMit dem Anmeldeformular erhalten Sie eine Anfahrtsbeschreibung und die Hotelinformationen. \nNach Eingang Ihrer Anmeldung erhalten Sie die Anmeldebestätigung sowie die Rechnung über die Seminargebühr. \nBitte buchen Sie Ihr Hotelzimmer nachdem Ihre Anmeldung bestätigt wurde.
URL:https://brillicon.de/event/gerhard-kluegl-aurachirurgie-basisseminar/
LOCATION:Hotel Inseli\, Romanshorn\, Inselistrasse 6\, Romanshorn\, 8590\, Switzerland
CATEGORIES:BRILLICON,Gerhard Klügl
ORGANIZER;CN="Gerhard Kl%C3%BCgl":MAILTO:aurachirurgie.li@hotmail.com
END:VEVENT
BEGIN:VEVENT
DTSTART;TZID=Europe/Berlin:20270709T110000
DTEND;TZID=Europe/Berlin:20270711T160000
DTSTAMP:20260424T205418
CREATED:20260324T220443Z
LAST-MODIFIED:20260324T220611Z
UID:501-1815130800-1815321600@brillicon.de
SUMMARY:Gerhard Klügl: Aurachirurgie-Aufbauseminar
DESCRIPTION:Aurachirurgie III:  Aurachirurgie am Bewegungsapparat\, Anatomie \n  \nVoraussetzungen: Aurachirurgie Basisseminar (Aurachirurgie I und II kompakt)\, zu diesem Seminar sind nur Ärzte\, Heilpraktiker und Physiotherapeuten mit Berufserfahrung und anatomischen Kenntnissen zugelassen. Psychische Stabilität ist Voraussetzung zum feinstofflichen Heilen. \n  \nSeminarinhalte: \nFreitag\, 11:00 – 21:00h \n\nAnatomische Voraussetzungen für die Aurachirurgie\nSkelettstrukturen\nMuskeln\, Bänder\, Sehnen\nBindegewebsstrukturen\, v.a. Knorpel und Bandscheiben\nInnervationen und Blutversorgungen\nTypische klinische Symptomatiken\nDiagnosekriterien\n\nSamstag\, 09:00 –21:30h \n\nZusammenfassung Basisseminar\nLösen karmischer Muster und Blockaden aus der Aura (weiterführend)\nAurachirurgie an Wirbelsäule\, Muskulatur\, Sehnen\, Nerven\, etc.\nPraktische Übungen\n\nSonntag\, 09:00 – ca. 16:00h \n\nAurachirurgie an Schulter\, Hüfte\, Knie\, etc.\nPraktische Übungen \n\nZeitlicher Seminarablauf: \nFreitag:\n11:00 – 12:30h Anatomie\n12:30 – 14:00h Mittagessen\n14:00 – 18:30h Anatomie (dazwischen Kaffeepause)\n18:30 – 19:30h Abendessen\n19:30 – ca. 21:30h Seminarprogramm \nSamstag: \n07:00 – 08:00h Morgenmeditation (freiwillig)\n08:00 – 09:00h Frühstück\n09:00 – 12:30h Seminarprogramm (dazwischen Kaffeepause)\n12:30 – 14:00h Mittagessen\n14:00 – 18:30h Seminarprogramm (dazwischen Kaffeepause)\n18:30 – 19:30h Abendessen\n19:30 – ca 21:30h Seminarprogramm \nSonntag: \n07:00 – 08:00h Morgenmeditation (freiwillig)\n08:00 – 09:00h Frühstück\n09:00 – 12:30h Seminarprogramm (dazwischen Kaffeepause)\n12:30 – 14:00h Mittagessen\n14:00 – 16:00h Seminarprogramm\n16:00h Ende des Seminares / Kaffee und Kuchen \n  \nSeminargebühr: CHF 740\,- / 740\,- €  (exkl. Unterkunft und Verpflegung)\nAnmeldung an: Stefanie Bouleau (aurachirurgie.li@hotmail.com)\nTelefonische Auskunft: Brigitte Kellermann (089-930 94 240) \n  \nDie Hotelkosten werden vom Teilnehmer direkt an das Hotel bezahlt. \n  \nNach Eingang Ihrer Anmeldung erhalten Sie eine Bestätigung. Ihr Teilnahmeplatz ist verbindlich reserviert nach Eingang der Seminargebühr.
URL:https://brillicon.de/event/gerhard-kluegl-aurachirurgie-aufbauseminar-2/
LOCATION:Hotel Inseli\, Romanshorn\, Inselistrasse 6\, Romanshorn\, 8590\, Switzerland
CATEGORIES:BRILLICON,Gerhard Klügl
ORGANIZER;CN="Gerhard Kl%C3%BCgl":MAILTO:aurachirurgie.li@hotmail.com
END:VEVENT
BEGIN:VEVENT
DTSTART;TZID=Europe/Berlin:20270917T080000
DTEND;TZID=Europe/Berlin:20270919T170000
DTSTAMP:20260424T205418
CREATED:20260324T222829Z
LAST-MODIFIED:20260324T222829Z
UID:512-1821168000-1821373200@brillicon.de
SUMMARY:Gerhard Klügl: Aurachirurgie-Abschlussseminar mit Zertifizierung
DESCRIPTION:Aurachirugie IV: Aurachirurgie an Inneren Organen\, Endokrines System\, Abschließende Überprüfung und Ausstellung der Urkunde: „Zertifizierter Auratherapeut nach Gerhard Klügl“ \n  \nVoraussetzungen: Basisseminar; Aufbauseminar \n  \nSeminarinhalte: \nFreitag\, 11:00 – 21:00h \n\nAnatomische Voraussetzungen für die Aurachirurgie\nKenntnisse zu den inneren Organen\nFunktionsprinzipien einzelner Organsysteme\nInnervationen und Blutversorgungen\nErkenntnisse aus der Mikrobiomforschung im Darm\nTypische klinische Symptomatiken\nDiagnosekriterien\n\nSamstag\, 09:00 –21:30h \n\nZusammenfassung Basisseminar und Aufbauseminar\, Vertiefung der erlernten Inhalte und Methoden\nGehirn\, Sinnesorgane\, Augen\, Ohren\, Atmungs- und Verdauungstrakt\nPraktische Übungen\n\nSonntag\, 09:00 – ca. 16:00h \n\nAurachirurgie an Schulter\, Hüfte\, Knie\, etc.\nPraktische Übungen\n\n  \nZeitlicher Seminarablauf: \nFreitag:\n11:00 – 12:30h Anatomie\n12:30 – 14:00h Mittagessen\n14:00 – 18:30h Anatomie (dazwischen Kaffeepause)\n18:30 – 19:30h Abendessen\n19:30 – ca. 21:30h Seminarprogramm \nSamstag:\n07:00 – 08:00h Morgenmeditation (freiwillig)\n08:00 – 09:00h Frühstück\n09:00 – 12:30h Seminarprogramm (dazwischen Kaffeepause)\n12:30 – 14:00h Mittagessen\n14:00 – 18:30h Seminarprogramm (dazwischen Kaffeepause)\n18:30 – 19:30h Abendessen\n19:30 – ca 21:30h Seminarprogramm \nSonntag:\n07:00 – 08:00h Morgenmeditation (freiwillig)\n08:00 – 09:00h Frühstück\n09:00 – 12:30h Seminarprogramm (dazwischen Kaffeepause)\n12:30 – 14:00h Mittagessen\n14:00 – 16:00h Seminarprogramm\n16:00h Ende des Seminares / Kaffee und Kuchen \n  \nSeminargebühr: CHF 740\,- / 740\,- €  (exkl. Unterkunft und Verpflegung)\nAnmeldung an: Stefanie Bouleau (aurachirurgie.li@hotmail.com)\nTelefonische Auskunft: Brigitte Kellermann (089-930 94 240) \n  \nDie Hotelkosten werden vom Teilnehmer direkt an das Hotel bezahlt. \n  \nNach Eingang Ihrer Anmeldung erhalten Sie eine Bestätigung. Ihr Teilnahmeplatz ist verbindlich reserviert nach Eingang der Seminargebühr.
URL:https://brillicon.de/event/gerhard-kluegl-aurachirurgie-abschlussseminar-mit-zertifizierung-3/
LOCATION:Hotel Inseli\, Romanshorn\, Inselistrasse 6\, Romanshorn\, 8590\, Switzerland
CATEGORIES:BRILLICON,Gerhard Klügl
ORGANIZER;CN="Gerhard Kl%C3%BCgl":MAILTO:aurachirurgie.li@hotmail.com
END:VEVENT
BEGIN:VEVENT
DTSTART;TZID=Europe/Berlin:20270920T100000
DTEND;TZID=Europe/Berlin:20270920T170000
DTSTAMP:20260424T205418
CREATED:20260324T224905Z
LAST-MODIFIED:20260324T224905Z
UID:528-1821434400-1821459600@brillicon.de
SUMMARY:Dr. Erika Kirgis: Aurachirurgie Vertiefungsseminar - Lösen von Triggerpunkten
DESCRIPTION:Aurachirurgie Vertiefungsseminar: Lösen von Triggerpunkten (Schmerztherapie)\nZiel des Seminares ist es\, die Entstehung des Schmerzes in der Muskulatur\, insbesondere in sog. Triggerpunkten\, zu verstehen und zu beheben. \nGemeinsam üben wir\, Triggerpunkte aufzuspüren\, aurachirurgisch aufzulösen\, und damit ursächlich zu therapieren.\nPraktische Anwendungsübungen finden statt. \nDen Schwerpunkt bilden häufige Schmerzdiagnosen\, individuelle Schmerzsymptome können besprochen und bearbeitet werden. \n  \nSeminarleitung:\nDr. med. Erika Kirgis\, Spezialistin für Akupunktur/Triggerpunktur und Naturheilverfahren\nmit Gerhard Klügl \nVoraussetzung: Aurachirurgie-Ausbildung (oder in Ausbildung)\nOrt: Hotel Inseli\, CH-Romanshorn (am Bodensee)\n€ 290\,- / CHF 290\,-\nAnmeldung: bkm@brillicon.de \nWeitere Informationen bitte unter www.dr-kirgis.de
URL:https://brillicon.de/event/dr-erika-kirgis-aurachirurgie-vertiefungsseminar-loesen-von-triggerpunkten-2/
LOCATION:Hotel Inseli\, Romanshorn\, Inselistrasse 6\, Romanshorn\, 8590\, Switzerland
CATEGORIES:BRILLICON,Gerhard Klügl
END:VEVENT
END:VCALENDAR